BEGIN:VCALENDAR
VERSION:2.0
PRODID:-//LAVA - ECPv6.15.20//NONSGML v1.0//EN
CALSCALE:GREGORIAN
METHOD:PUBLISH
X-ORIGINAL-URL:https://lavawine.org
X-WR-CALDESC:Events for LAVA
REFRESH-INTERVAL;VALUE=DURATION:PT1H
X-Robots-Tag:noindex
X-PUBLISHED-TTL:PT1H
BEGIN:VTIMEZONE
TZID:America/Los_Angeles
BEGIN:DAYLIGHT
TZOFFSETFROM:-0800
TZOFFSETTO:-0700
TZNAME:PDT
DTSTART:20200308T100000
END:DAYLIGHT
BEGIN:STANDARD
TZOFFSETFROM:-0700
TZOFFSETTO:-0800
TZNAME:PST
DTSTART:20201101T090000
END:STANDARD
BEGIN:DAYLIGHT
TZOFFSETFROM:-0800
TZOFFSETTO:-0700
TZNAME:PDT
DTSTART:20210314T100000
END:DAYLIGHT
BEGIN:STANDARD
TZOFFSETFROM:-0700
TZOFFSETTO:-0800
TZNAME:PST
DTSTART:20211107T090000
END:STANDARD
BEGIN:DAYLIGHT
TZOFFSETFROM:-0800
TZOFFSETTO:-0700
TZNAME:PDT
DTSTART:20220313T100000
END:DAYLIGHT
BEGIN:STANDARD
TZOFFSETFROM:-0700
TZOFFSETTO:-0800
TZNAME:PST
DTSTART:20221106T090000
END:STANDARD
BEGIN:DAYLIGHT
TZOFFSETFROM:-0800
TZOFFSETTO:-0700
TZNAME:PDT
DTSTART:20230312T100000
END:DAYLIGHT
BEGIN:STANDARD
TZOFFSETFROM:-0700
TZOFFSETTO:-0800
TZNAME:PST
DTSTART:20231105T090000
END:STANDARD
BEGIN:DAYLIGHT
TZOFFSETFROM:-0800
TZOFFSETTO:-0700
TZNAME:PDT
DTSTART:20240310T100000
END:DAYLIGHT
BEGIN:STANDARD
TZOFFSETFROM:-0700
TZOFFSETTO:-0800
TZNAME:PST
DTSTART:20241103T090000
END:STANDARD
BEGIN:DAYLIGHT
TZOFFSETFROM:-0800
TZOFFSETTO:-0700
TZNAME:PDT
DTSTART:20250309T100000
END:DAYLIGHT
BEGIN:STANDARD
TZOFFSETFROM:-0700
TZOFFSETTO:-0800
TZNAME:PST
DTSTART:20251102T090000
END:STANDARD
BEGIN:DAYLIGHT
TZOFFSETFROM:-0800
TZOFFSETTO:-0700
TZNAME:PDT
DTSTART:20260308T100000
END:DAYLIGHT
BEGIN:STANDARD
TZOFFSETFROM:-0700
TZOFFSETTO:-0800
TZNAME:PST
DTSTART:20261101T090000
END:STANDARD
END:VTIMEZONE
BEGIN:VEVENT
DTSTART;VALUE=DATE:20251218
DTEND;VALUE=DATE:20251219
DTSTAMP:20260424T133758
CREATED:20250104T011454Z
LAST-MODIFIED:20250104T011527Z
UID:26651-1766016000-1766102399@lavawine.org
SUMMARY:No December 2025 Meeting!
DESCRIPTION:
URL:https://lavawine.org/event/no-december-2025-meeting/
CATEGORIES:Monthly Meetings
END:VEVENT
BEGIN:VEVENT
DTSTART;TZID=America/Los_Angeles:20251120T183000
DTEND;TZID=America/Los_Angeles:20251120T203000
DTSTAMP:20260424T133758
CREATED:20250104T005738Z
LAST-MODIFIED:20250104T010932Z
UID:26639-1763663400-1763670600@lavawine.org
SUMMARY:November 2025 Meeting
DESCRIPTION:
URL:https://lavawine.org/event/november-2025-meeting/
CATEGORIES:Monthly Meetings
END:VEVENT
BEGIN:VEVENT
DTSTART;TZID=America/Los_Angeles:20251016T183000
DTEND;TZID=America/Los_Angeles:20251016T203000
DTSTAMP:20260424T133758
CREATED:20250104T005653Z
LAST-MODIFIED:20250104T010932Z
UID:26636-1760639400-1760646600@lavawine.org
SUMMARY:October 2025 Meeting
DESCRIPTION:
URL:https://lavawine.org/event/september-meeting-2/
CATEGORIES:Monthly Meetings
END:VEVENT
BEGIN:VEVENT
DTSTART;TZID=America/Los_Angeles:20250918T183000
DTEND;TZID=America/Los_Angeles:20250918T203000
DTSTAMP:20260424T133758
CREATED:20250104T005419Z
LAST-MODIFIED:20250104T010932Z
UID:26634-1758220200-1758227400@lavawine.org
SUMMARY:September 2025 Meeting
DESCRIPTION:
URL:https://lavawine.org/event/september-meeting/
CATEGORIES:Monthly Meetings
END:VEVENT
BEGIN:VEVENT
DTSTART;TZID=America/Los_Angeles:20250821T183000
DTEND;TZID=America/Los_Angeles:20250821T203000
DTSTAMP:20260424T133758
CREATED:20250104T005316Z
LAST-MODIFIED:20250104T010932Z
UID:26632-1755801000-1755808200@lavawine.org
SUMMARY:August 2025 Meeting
DESCRIPTION:
URL:https://lavawine.org/event/august-meeting-2/
CATEGORIES:Monthly Meetings
END:VEVENT
BEGIN:VEVENT
DTSTART;TZID=America/Los_Angeles:20250717T183000
DTEND;TZID=America/Los_Angeles:20250717T203000
DTSTAMP:20260424T133758
CREATED:20250104T005238Z
LAST-MODIFIED:20250713T020801Z
UID:26630-1752777000-1752784200@lavawine.org
SUMMARY:July 2025 Meeting
DESCRIPTION:July Meeting at Fields Family Winery\nPlease join us for our July meeting to be held at Fields Family Winery. Our speaker will be Ryan Sherman\, their winemaker\, who will talk about his winemaking style. \nAddress: 3803 E Woodbridge Rd Acampo\, CA 95220\nMeeting Date: Thursday\, July 17th\nSocial time: 6:30 PM\nMeeting time: 7:00 PM – 8:30 PM \nBring your glass\, your folding chair\, and your homemade wine to share and critique (no outside commercial wines\, please). \nMembers are encouraged to purchase wine on-site to support our generous hosts.
URL:https://lavawine.org/event/july-meeting/
CATEGORIES:Monthly Meetings
END:VEVENT
BEGIN:VEVENT
DTSTART;TZID=America/Los_Angeles:20250619T183000
DTEND;TZID=America/Los_Angeles:20250619T203000
DTSTAMP:20260424T133758
CREATED:20250103T170011Z
LAST-MODIFIED:20250713T020855Z
UID:26262-1750357800-1750365000@lavawine.org
SUMMARY:June 2025 Meeting
DESCRIPTION:June Banquet coming soon..\nReserve your spot now!.\n  \nA RESERVATION PAID IS A RESERVATION MADE \nOnce you’ve paid you are in!\nPay by June 10th to be included\nNo payments at the door\nStill need gift basket and auction items! \nLAVA Banquet Hosted by Fatima Jacobo & Randy Savig\nRemember to purchase your LAVA banquet tickets in advance.  $30 per person.  Due June 10th. \nBanquet Date:  Thursday\, June 19th (This will be our  June meeting)\nTime:  6:00 p.m.  \nLocation:  Clements Community Center\, 19051 CA-88\, Clements\, CA 95227\nMenu:  Catered by Epic Sabor\nChicken Toscana\, Alfredo pasta\, Italian salad\, garlic shrimp\, focaccia bread\nPlease bring wine and an appetizer or dessert to share.  Bring your own wine glasses.\nCost:  $30 per person \nHOW TO PAY \nCLICK HERE TO HEAD OVER TO THE LAVA WEBSITE:  This links to the page on our website that allows people to purchase tickets through PayPal or information about sending in a check. \nReservations must be made and paid by June 10th. \nDinner Information:\nContact Fatima Jacobo\n(209) 640-4722 or alexnfati@gmail.com \nGift Baskets and Auction Items needed\nWe are suggesting each couple or attendee bring a basket or item for this\, our only fundraiser.\nContact Fatima at 209-640-4722 or alexnfati@gmail.com
URL:https://lavawine.org/event/june-meeting/
CATEGORIES:Monthly Meetings
END:VEVENT
BEGIN:VEVENT
DTSTART;TZID=America/Los_Angeles:20250515T183000
DTEND;TZID=America/Los_Angeles:20250515T203000
DTSTAMP:20260424T133758
CREATED:20250101T170043Z
LAST-MODIFIED:20250713T021100Z
UID:26260-1747333800-1747341000@lavawine.org
SUMMARY:May 2025 Meeting
DESCRIPTION:May Meeting at M2 Wines \n \nPlease join us for our May meeting to be held at M2 Wines. Our speaker will be Layne Montgomery. Layne will talk about his wine making style. \nAddress: 2900 E Peltier Road Acampo\, CA 95220 \nMeeting Date: Thursday\, May 15th (3rd Thursday of the month)\nSocial time: 6:30pm\nMeeting time: 7:00 – 8:30pm   
URL:https://lavawine.org/event/may-meeting/
LOCATION:M2 Wines\, 2900 E Peltier Road\, Acampo\, CA\, 95220\, United States
CATEGORIES:Monthly Meetings
END:VEVENT
BEGIN:VEVENT
DTSTART;TZID=America/Los_Angeles:20250417T183000
DTEND;TZID=America/Los_Angeles:20250417T203000
DTSTAMP:20260424T133758
CREATED:20250103T160051Z
LAST-MODIFIED:20250406T154258Z
UID:26258-1744914600-1744921800@lavawine.org
SUMMARY:April 2025 Meeting
DESCRIPTION:April Meeting at Spenker Family Winery \nPlease join us for our March meeting to be held at Spenker Family Winery.  Our speaker will be Chuck Spenker. Chuck will talk about his wines \nAddress: 17291 N DeVries Rd\, Lodi CA 95242 \nMeeting Date: Thursday\, April 17th (3rd Thursday of the month)\nSocial time: 6:30pm\nMeeting time: 7:00 – 8:30pm                               \n\nBring your glass and your homemade wine to share and critique (no outside commercial wines please). \nMembers are encouraged to purchase wine on site to support our generous hosts.\nPlease bring your chair and a jacket. The meeting is planned to be held on the patio.  If the weather is bad it will be moved inside.  \nMeeting Agenda: Click Here\n\nAlso\, don’t forget to pay your dues.
URL:https://lavawine.org/event/april-meeting/
LOCATION:Spenker Family Winery\, 17291 N DeVries Rd\, Lodi\, CA\, 95242\, United States
CATEGORIES:Monthly Meetings
END:VEVENT
BEGIN:VEVENT
DTSTART;TZID=America/Los_Angeles:20250320T183000
DTEND;TZID=America/Los_Angeles:20250320T203000
DTSTAMP:20260424T133758
CREATED:20250103T170000Z
LAST-MODIFIED:20250406T155148Z
UID:26256-1742495400-1742502600@lavawine.org
SUMMARY:March 2025 Meeting
DESCRIPTION:March Meeting at Stama Winery \nPlease join us for our March meeting to be held at Stama Winery.  Our speaker will be Frank Lambert. Frank will do a tour of the winery and answer any questions. \nAddress: 17521 North Davis Rd\, Lodi 95242 \nMeeting Date: Thursday\, March 20th (3rd Thursday of the month)\nSocial time: 6:30pm\nMeeting time: 7:00 – 8:30pm                               \n\n\nBring your glass and your homemade wine to share and critique (no outside commercial wines please).  \n\n\nMembers are encouraged to purchase wine on site to support our generous hosts. \n* We are unsure of seating availability so please bring your chairs just in case. \n\nMeeting Agenda: Click Here \nAlso\, don’t forget to pay your dues.  We have 90 paid members and 40 unpaid. \nTo pay\, please go to the website (LAVA – Lodi Amateur Vintners Association (lavawine.org) and renew your dues (Donation) for 2025.\nOR\nSend a $50.00 check Payable to LAVA\nTo: LAVA\nAttn: Membership Chairperson\nP.O. Box 1165\nLodi\, CA    95241 \nInclude your name(s)\, email(s)\, mailing address\, phone number(s). \nSee you there.\nNeil Peterson
URL:https://lavawine.org/event/march-meeting/
LOCATION:Stama Winery\, 17521 North Davis Rd\, Lodi\, CA\, 95242\, United States
CATEGORIES:Monthly Meetings
END:VEVENT
BEGIN:VEVENT
DTSTART;TZID=America/Los_Angeles:20250220T183000
DTEND;TZID=America/Los_Angeles:20250220T203000
DTSTAMP:20260424T133758
CREATED:20250103T170047Z
LAST-MODIFIED:20250211T030741Z
UID:26254-1740076200-1740083400@lavawine.org
SUMMARY:February 2025 Meeting
DESCRIPTION:February Meeting at St. Jorge Winery\nPlease join us for our February meeting to be held at St. Jorge Winery.  Our speaker will be Vern Vierra.  Vern will be speaking on his wine making style.\n\nAddress: St. Jorge Winery 22769 North Bender Rd\, Acampo 95220 \nMeeting Date: Thursday\, February 20th (3rd Thursday of the month) \nSocial time: 6:30pm\nMeeting time: 7:00 – 8:30pm                               \n\nBring your glass and your homemade wine to share and critique (no outside commercial wines please). \nMembers are encouraged to purchase wine on site to support our generous hosts. \n\nSee you there.\nNeil Peterson
URL:https://lavawine.org/event/february-meeting-2/
CATEGORIES:Monthly Meetings
END:VEVENT
BEGIN:VEVENT
DTSTART;TZID=America/Los_Angeles:20250116T183000
DTEND;TZID=America/Los_Angeles:20250116T203000
DTSTAMP:20260424T133758
CREATED:20250104T002534Z
LAST-MODIFIED:20250104T011341Z
UID:26613-1737052200-1737059400@lavawine.org
SUMMARY:January 2025 Meeting
DESCRIPTION:Our next scheduled meeting will be held on January 16th at the Lodi Grape Festival grounds in the Burgundy Hall. Social hour starts at 6:30 PM\, Mentoring Question Session starts at 6:45 and the meeting begins at 7:00 PM. \nFollowing the general meeting\, we’ll have a blind tasting of wines made by our newer members (those who have joined in the last 4 years) from the years 2019-2024. \n* WE ARE STILL IN NEED OF MORE PARTICIPANTS\nIf you are a newer member and you’d like to participate\, please sign up ASAP on the form HERE\, bring an unlabeled bottle of your wine to the meeting\, and email me at savig@sbcglobal.net with any questions. \nAlso\, don’t forget to pay your dues.  To pay\, please go to the website (LAVA – Lodi Amateur Vintners Association (lavawine.org) and renew your dues (Donation) for 2025.\nOR\nSend a $50.00 check Payable to LAVA\nTo: LAVA\nAttn: Membership Chairperson\nP.O. Box 1165\nLodi\, CA    95241 \nInclude your name(s)\, email(s)\, mailing address\, phone number(s). \nPlease do not reply to this email as all LAVA board members will receive your response. \nLooking forward to seeing you all in a few weeks!
URL:https://lavawine.org/event/january-2025-meeting/
LOCATION:Lodi Grape Festival – Burgundy Room
CATEGORIES:Monthly Meetings
END:VEVENT
BEGIN:VEVENT
DTSTART;TZID=America/Los_Angeles:20241121T183000
DTEND;TZID=America/Los_Angeles:20241121T200000
DTSTAMP:20260424T133758
CREATED:20241108T005347Z
LAST-MODIFIED:20250104T010932Z
UID:26249-1732213800-1732219200@lavawine.org
SUMMARY:November 2024 LAVA Meeting
DESCRIPTION:November’s Nouveau Wine Meeting\nLAVA General Membership Meeting – November 21\, 2024\, starting at 6:30 PM.\nThis is our Nouveau Wine tasting meeting\, please bring a bottle of this year’s new wine to share and compare with other members. \nLocation: Lodi Wine and Visitors Center at Wine and Roses\n2445 W. Turner Road\, Lodi\, CA 95242 \nThis is the last meeting of the year\, there will be no December meeting!  There will be a short General Club meeting\, followed by social time.  The general meeting will also include the election of new officers. \nWhat to bring: \n\nWine to share (this is the time to break out those new wines still in the barrel to see how they are progressing.)\nWine glasses\nA finger food item to share\, such as a sweet or savory appetizer.\nChairs.  Since the space is limited\, smaller indoor chairs are encouraged.\n\nThe club will supply napkins and plates.\nI hope everyone can attend!
URL:https://lavawine.org/event/november-meeting/
LOCATION:Lodi Wine Visitor Center\, 2445 W. Turner Road\, Lodi\, CA\, 95242
CATEGORIES:Monthly Meetings
END:VEVENT
BEGIN:VEVENT
DTSTART;TZID=America/Los_Angeles:20241017T180000
DTEND;TZID=America/Los_Angeles:20241017T203000
DTSTAMP:20260424T133758
CREATED:20240720T063205Z
LAST-MODIFIED:20250104T010932Z
UID:26228-1729188000-1729197000@lavawine.org
SUMMARY:October 2024 LAVA Meeting
DESCRIPTION:Our October meeting is also our BBQ.  Even better is that it will be catered and is free for our members and their partners (so that would be two people per membership).  While dinner is catered\, we hope you can bring an appetizer or desert to share along with your wine. \nReservation window is now closed. \nDetails:\nWhen:     Thursday\, October 17th\nTime:       6:00- 8:30 pm\nWhere:    Clements School Community Center\n19051 CA-88\, Clements\, CA 95227\nDinner:    Dinner to be catered by Daddy’s Ribs\, Lockeford.  Dinner fare to include ribs\, tri-tip\, chicken as well as mac and cheese\, baked beans\, green beans\, coleslaw and cornbread.
URL:https://lavawine.org/event/october-meeting/
CATEGORIES:Monthly Meetings
END:VEVENT
BEGIN:VEVENT
DTSTART;TZID=America/Los_Angeles:20240815T180000
DTEND;TZID=America/Los_Angeles:20240815T200000
DTSTAMP:20260424T133758
CREATED:20240720T063049Z
LAST-MODIFIED:20250104T010932Z
UID:26225-1723744800-1723752000@lavawine.org
SUMMARY:August 2024 LAVA Meeting
DESCRIPTION:August Meeting: will be the food pairing held at Goodmills.  Contact Jim Todd (jimtoddsweep@gmail.com) if you are interested in providing 60-75 samplings of food to pair with a wine\, and 3-4 bottles of wine for the summer classic. If you need wine to serve\, we have club members who will proudly supply their wine.
URL:https://lavawine.org/event/august-meeting/
CATEGORIES:Monthly Meetings
END:VEVENT
BEGIN:VEVENT
DTSTART;TZID=America/Los_Angeles:20240718T183000
DTEND;TZID=America/Los_Angeles:20240718T200000
DTSTAMP:20260424T133758
CREATED:20240720T062853Z
LAST-MODIFIED:20250104T010932Z
UID:26222-1721327400-1721332800@lavawine.org
SUMMARY:July 2024 LAVA Meeting
DESCRIPTION:Please join us for our July meeting to be held at Heritage Oaks Winery.  Our speaker will be Craig Rous.  Craig has been a part of wine making in the Lodi area for many years and is known for his wine knowledge and exceptional palate.  This should be very informative since Craig has agreed to review our LAVA wines previously submitted by our members. \nAddress:  Heritage Oaks Winery\, 10112 E Woodbridge Rd\, Acampo\, CA 95220\nMeeting Date: Thursday\, July 18th (3rd Thursday of the month)\nSocial time: 6:30pm\nMeeting time: 7:00 – 8:30pm \n\nBring your glass and your homemade wine to share and critique (no outside commercial wines please).\nMembers are encouraged to purchase wine on site to support our generous hosts.\nTables and chairs available but you may want to throw an extra chair in the car.\n\nA note to those who have volunteered to have their wine analyzed at our July meeting:\nIt would be fun to bring more of your wine that is being analyzed so members can follow along with tasting notes provided by Craig Rous.
URL:https://lavawine.org/event/july-meeting-at-heritage-oaks-winery/
LOCATION:Heritage Oak Winery\, 10112 E Woodbridge Rd\, Acampo\, CA\, 95220\, United States
CATEGORIES:Monthly Meetings
END:VEVENT
BEGIN:VEVENT
DTSTART;TZID=America/Los_Angeles:20240620T190000
DTEND;TZID=America/Los_Angeles:20240620T203000
DTSTAMP:20260424T133758
CREATED:20240604T003543Z
LAST-MODIFIED:20250104T010932Z
UID:26211-1718910000-1718915400@lavawine.org
SUMMARY:June 2024 LAVA Meeting
DESCRIPTION:June Meeting at Lucas Winery\nPlease join us for our June meeting which will be held at Lucas Winery.  Our speaker will be Eliza Hess speaking on general wine making. \nAddress:  18196 N. Davis Road\, Lodi CA 95242\nMeeting Date: Thursday\, June 20th (3rd Thursday of the month)\nSocial time: 6:30pm\nMeeting time: 7:00 – 8:30pm \n\nBring your glass and your homemade wine to share and critique (no outside commercial wines please).\nMembers are encouraged to purchase wine on site to support our generous hosts.\nBring your chair.
URL:https://lavawine.org/event/june-2024-lava-meeting/
LOCATION:Lucas Winery\, 18196 N. Davis Road\, Lodi\, CA\, 95242\, United States
CATEGORIES:Monthly Meetings
END:VEVENT
BEGIN:VEVENT
DTSTART;TZID=America/Los_Angeles:20240516T180000
DTEND;TZID=America/Los_Angeles:20240516T203000
DTSTAMP:20260424T133758
CREATED:20240421T232536Z
LAST-MODIFIED:20250104T010932Z
UID:26192-1715882400-1715891400@lavawine.org
SUMMARY:2024 LAVA Banquet
DESCRIPTION:2024 LAVA Banquet
URL:https://lavawine.org/event/2024-lava-banquet/
CATEGORIES:Monthly Meetings
END:VEVENT
BEGIN:VEVENT
DTSTART;TZID=America/Los_Angeles:20240418T183000
DTEND;TZID=America/Los_Angeles:20240418T203000
DTSTAMP:20260424T133758
CREATED:20240412T013450Z
LAST-MODIFIED:20250104T010932Z
UID:26152-1713465000-1713472200@lavawine.org
SUMMARY:April 2024 LAVA Meeting
DESCRIPTION:April Meeting at Estate Crush\nOur March meeting will be held at the tasting room of Estate Crush.  Our speaker will be Bob Colarossi talking about general wine making with a question and answer after. \nAddress:  2 West Lockeford Street\, Lodi CA 95240\nMeeting Date: Thursday\, April 16th (3rd Thursday of the month)\nSocial time: 6:30pm\nMeeting time: 7:00 – 8:30pm \n\nBring your glass and your homemade wine to share and critique (no outside commercial wines please).\nMembers are encouraged to purchase wine on site to support our generous hosts.\nThe tasting room as some chairs but you may want to throw in your folding chair\, just in case.
URL:https://lavawine.org/event/april-2024-lava-meeting/
LOCATION:Estate Crush\, 2 W. Lockeford Street Lodi\, Lodi\, 95240\, United States
CATEGORIES:Monthly Meetings
END:VEVENT
BEGIN:VEVENT
DTSTART;TZID=America/Los_Angeles:20240321T183000
DTEND;TZID=America/Los_Angeles:20240321T203000
DTSTAMP:20260424T133758
CREATED:20240318T175420Z
LAST-MODIFIED:20250104T010932Z
UID:26159-1711045800-1711053000@lavawine.org
SUMMARY:March 2024 LAVA Meeting
DESCRIPTION:March Meeting at LVVR Sparkling Cellars\nOur March meeting will be held at LVVR Sparkling Cellars.  Our speaker will be Erick Donaldson and will speak on the subject on the Liqueur de Tirage method of sparkling wine making. \nAddress:  17036 N Locust Tree Rd Lodi CA 95240\nMeeting Date: Thursday\, March 21st (3rd Thursday of the month)\nSocial time: 6:30pm\nMeeting time: 7:00 – 8:30pm \n\nBring your glasses and your homemade wines to share and critique (no outside wines please).\nMembers are encouraged to purchase wines on site to support our generous hosts.\nYou will NOT need your chairs.\n\nAlso bring ideas for our spring banquet to be held in May.  We will need to finalize a date to reserve a location. \nSee you there.\nRandy Savig
URL:https://lavawine.org/event/march-2024-lava-meeting/
LOCATION:LVVR Sparkling Cellars\, 17036 N Locust Tree Rd\, Lodi\, CA\, 95240
CATEGORIES:Monthly Meetings
END:VEVENT
BEGIN:VEVENT
DTSTART;TZID=America/Los_Angeles:20240215T183000
DTEND;TZID=America/Los_Angeles:20240215T203000
DTSTAMP:20260424T133758
CREATED:20240220T015704Z
LAST-MODIFIED:20250104T010933Z
UID:26145-1708021800-1708029000@lavawine.org
SUMMARY:February 2024 LAVA Meeting
DESCRIPTION:We will meet at Jessie’s Grove Winery.  Our speaker will be Greg Burn.\nAddress:  1973 West Turner Road\, Lodi\, CA 95242\nMeeting Date: Thursday\, February 15th (3rd Thursday of the month)\nSocial time: 6:30pm\nMeeting time: 7:00 – 8:30pm\nBring your homemade wines to share.  You will also need your chairs and glasses.  The meeting will be in the “Barn” and even though they will provide heaters\, it could be a little chilly so bundle up.
URL:https://lavawine.org/event/february-meeting/
LOCATION:Jessie’s Grove Winery\, 1973 West Turner Road\, Lodi\, 95242\, United States
CATEGORIES:Monthly Meetings
END:VEVENT
BEGIN:VEVENT
DTSTART;TZID=America/Los_Angeles:20240118T190000
DTEND;TZID=America/Los_Angeles:20240118T203000
DTSTAMP:20260424T133758
CREATED:20240113T172718Z
LAST-MODIFIED:20250104T011057Z
UID:26139-1705604400-1705609800@lavawine.org
SUMMARY:January 2024 LAVA Meeting
DESCRIPTION:Ken Levy will lead a discussion about Wine Lab JUICE and WINE analysis.\nWe will meet at the Lodi Grape Festival Grounds\, Burgundy Room.\nAddress:  413 E Lockeford St\, Lodi\, CA 95240\nMeeting Date: Thursday\, January 18th\, 2024 (3rd Thursday of the month)\nSocial time: 6:30pm\nMeeting time: 7:00 – 8:30pm\nBring your homemade wines to share.  You don’t need your chairs.  You DO need your glasses. \nAlso\, don’t forget to pay your dues.  We have 47 paid members and 88 unpaid.  To pay\, please go to the website (LAVA – Lodi Amateur Vintners Association (lavawine.org) and renew your dues (Donation) for 2024.\nOR\nSend a $50.00 check Payable to LAVA\nTo: LAVA\nAttn: Membership Chairperson\nP.O. Box 1165\nLodi\, CA    95241 \nInclude your name(s)\, email(s)\, mailing address\, phone number(s).
URL:https://lavawine.org/event/january-meeting/
LOCATION:Lodi Grape Festival – Burgundy Room
CATEGORIES:Monthly Meetings
END:VEVENT
BEGIN:VEVENT
DTSTART;TZID=America/Los_Angeles:20231116T183000
DTEND;TZID=America/Los_Angeles:20231116T203000
DTSTAMP:20260424T133758
CREATED:20231013T202603Z
LAST-MODIFIED:20250104T010957Z
UID:26082-1700159400-1700166600@lavawine.org
SUMMARY:November 2023 LAVA Meeting
DESCRIPTION:The November 16\, 2023 LAVA meeting will be at The Lodi Wine and Visitors Center located on the Wine and Roses property\,  2545 West Turner Road\, Lodi\, CA 95242\, USA \nBring a bottle of wine to share\, a glass to sip from and a chair to sit.  Also\, bring an appetizer or dessert item to share with everyone. \nTasting starts at 6:30pm\nMeeting starts at 7pm \nTopic: Annual Nouveau wine tasting from the 2023 harvest. \nAgenda\, Minutes and Financials are available online here when they are posted: Click Here
URL:https://lavawine.org/event/november-2023-meeting/
LOCATION:Lodi Wine and Visitors Center\, 2545 W Turner Rd\, Lodi\, CA\, 95242-4643\, United States
CATEGORIES:Monthly Meetings
END:VEVENT
BEGIN:VEVENT
DTSTART;TZID=America/Los_Angeles:20231019T183000
DTEND;TZID=America/Los_Angeles:20231019T203000
DTSTAMP:20260424T133758
CREATED:20231013T203047Z
LAST-MODIFIED:20250104T010957Z
UID:26084-1697740200-1697747400@lavawine.org
SUMMARY:October 2023 LAVA Meeting
DESCRIPTION:We will meet at the Lodi Grape Festival Grounds\, Burgundy Room.\nAddress:  413 E Lockeford St\, Lodi\, CA 95240\nMeeting Date: Thursday\, October 19th\, 2023 (3rd Thursday of the month)\nSocial time: 6:30pm\nMeeting time: 7:00 – 8:30pm\nBring your homemade wines to share.  You don’t need your chairs.  You do need your glasses.\nSpeaker information upcoming. \nAgenda\, Minutes and Financials are available online here when they are posted: Click Here
URL:https://lavawine.org/event/october-2023-meeting/
LOCATION:Lodi Grape Festival – Burgundy Room
CATEGORIES:Monthly Meetings
END:VEVENT
BEGIN:VEVENT
DTSTART;TZID=America/Los_Angeles:20220120T183000
DTEND;TZID=America/Los_Angeles:20220120T210000
DTSTAMP:20260424T133758
CREATED:20220112T203806Z
LAST-MODIFIED:20250104T010957Z
UID:25959-1642703400-1642712400@lavawine.org
SUMMARY:January 2022 LAVA Meeting
DESCRIPTION:The January 20\, 2022 LAVA meeting will be at The Lodi Grape Festival Grounds located at 413 E Lockeford St\, Lodi\, CA 95240 \nBring a bottle of wine to share\, a glass to sip.  Chairs and tables are provided at this venue. \nTasting starts at 6:30pm\nMeeting starts at 7pm \nTopic: Annual Members Meeting \nAgenda\, Minutes and Financials are available online here when they are posted: Click Here
URL:https://lavawine.org/event/jan-2022-lava-meeting/
CATEGORIES:Monthly Meetings
END:VEVENT
BEGIN:VEVENT
DTSTART;TZID=America/Los_Angeles:20211118T183000
DTEND;TZID=America/Los_Angeles:20211118T200000
DTSTAMP:20260424T133758
CREATED:20210226T233401Z
LAST-MODIFIED:20250104T010957Z
UID:25817-1637260200-1637265600@lavawine.org
SUMMARY:November 2021 LAVA Meeting
DESCRIPTION:The November 18\, 2021 LAVA meeting will be at The Lodi Wine and Visitors Center located on the Wine and Roses property\,  2545 West Turner Road\, Lodi\, CA 95242\, USA \nBring a bottle of wine to share\, a glass to sip from and a chair to sit.  Also\, bring an appetizer or dessert item to share with everyone. \nTasting starts at 6:30pm\nMeeting starts at 7pm \nTopic: Annual Nouveau wine tasting from the 2021 harvest. \nAgenda\, Minutes and Financials are available online here when they are posted: Click Here
URL:https://lavawine.org/event/november-2021-lava-meeting/
LOCATION:Lodi Wine and Visitors Center\, 2545 W Turner Rd\, Lodi\, CA\, 95242-4643\, United States
CATEGORIES:Monthly Meetings
END:VEVENT
BEGIN:VEVENT
DTSTART;TZID=America/Los_Angeles:20211021T183000
DTEND;TZID=America/Los_Angeles:20211021T203000
DTSTAMP:20260424T133758
CREATED:20210303T181005Z
LAST-MODIFIED:20250104T010957Z
UID:25863-1634841000-1634848200@lavawine.org
SUMMARY:October 2021 LAVA Meeting
DESCRIPTION:Change of Venue-Please Note!\nThe October 21\, 2021 LAVA meeting location is Michael David Winery 4580 W Highway 12\, Lodi\, CA \nBring a bottle of home made wine to share.  Outside commercial wines ARE NOT allowed at this meeting. \nBring a chair sit and a wine glass to sip! \nTasting starts at 6:30pm\nMeeting starts at 7pm \nSpeaker: Kevin Phillips\nTopic: Vineyard Care through Harvest \nAgenda\, Minutes and Financials are available online here when they are posted\, please check the website.
URL:https://lavawine.org/event/october-2021-lava-meeting/
LOCATION:Michael David Winery\, 4580 W Highway 12\, Lodi\, 95242
CATEGORIES:Monthly Meetings
END:VEVENT
BEGIN:VEVENT
DTSTART;TZID=America/Los_Angeles:20210916T183000
DTEND;TZID=America/Los_Angeles:20210916T203000
DTSTAMP:20260424T133758
CREATED:20210303T180208Z
LAST-MODIFIED:20250104T010957Z
UID:25855-1631817000-1631824200@lavawine.org
SUMMARY:September 2021 LAVA Meeting
DESCRIPTION:Venue and Speaker TBD
URL:https://lavawine.org/event/september-2021-lava-meeting/
CATEGORIES:Monthly Meetings
END:VEVENT
BEGIN:VEVENT
DTSTART;VALUE=DATE:20210916
DTEND;VALUE=DATE:20210920
DTSTAMP:20260424T133758
CREATED:20210303T175928Z
LAST-MODIFIED:20250104T010957Z
UID:25852-1631750400-1632095999@lavawine.org
SUMMARY:Lodi Grape Festival Dates
DESCRIPTION:Lodi Grape Festival-Posted for Information Only
URL:https://lavawine.org/event/25852/
CATEGORIES:Monthly Meetings,Special Events
END:VEVENT
BEGIN:VEVENT
DTSTART;TZID=America/Los_Angeles:20210819T180000
DTEND;TZID=America/Los_Angeles:20210819T200000
DTSTAMP:20260424T133758
CREATED:20210303T180854Z
LAST-MODIFIED:20250104T010957Z
UID:25861-1629396000-1629403200@lavawine.org
SUMMARY:August 2021 LAVA Meeting
DESCRIPTION:The August 19\, 2021 LAVA meeting location is Goodmills Family Winery at 17266 Hillside Drive Lodi\, CA 95240. \nBring a bottle of home made wine to share.  Outside commercial wines ARE NOT allowed at this meeting. \nBring a chair sit and a wine glass to sip! \nMeeting starts at 6:00pm\nFood & Wine Pairing starts at 7pm \nThis is our Food and Wine Pairing event\, a highlight event of the year. \nAgenda\, Minutes and Financials are available online here when they are posted\, please check the website.
URL:https://lavawine.org/event/august-2021-lava-meeting/
CATEGORIES:Monthly Meetings
END:VEVENT
END:VCALENDAR